BEGIN:VCALENDAR
VERSION:2.0
PRODID:-//Landgut Stemmen - ECPv6.15.20//NONSGML v1.0//EN
CALSCALE:GREGORIAN
METHOD:PUBLISH
X-WR-CALNAME:Landgut Stemmen
X-ORIGINAL-URL:https://landgut-stemmen.de
X-WR-CALDESC:Veranstaltungen für Landgut Stemmen
REFRESH-INTERVAL;VALUE=DURATION:PT1H
X-Robots-Tag:noindex
X-PUBLISHED-TTL:PT1H
BEGIN:VTIMEZONE
TZID:Europe/Berlin
BEGIN:DAYLIGHT
TZOFFSETFROM:+0100
TZOFFSETTO:+0200
TZNAME:CEST
DTSTART:20250330T010000
END:DAYLIGHT
BEGIN:STANDARD
TZOFFSETFROM:+0200
TZOFFSETTO:+0100
TZNAME:CET
DTSTART:20251026T010000
END:STANDARD
BEGIN:DAYLIGHT
TZOFFSETFROM:+0100
TZOFFSETTO:+0200
TZNAME:CEST
DTSTART:20260329T010000
END:DAYLIGHT
BEGIN:STANDARD
TZOFFSETFROM:+0200
TZOFFSETTO:+0100
TZNAME:CET
DTSTART:20261025T010000
END:STANDARD
BEGIN:DAYLIGHT
TZOFFSETFROM:+0100
TZOFFSETTO:+0200
TZNAME:CEST
DTSTART:20270328T010000
END:DAYLIGHT
BEGIN:STANDARD
TZOFFSETFROM:+0200
TZOFFSETTO:+0100
TZNAME:CET
DTSTART:20271031T010000
END:STANDARD
BEGIN:DAYLIGHT
TZOFFSETFROM:+0100
TZOFFSETTO:+0200
TZNAME:CEST
DTSTART:20280326T010000
END:DAYLIGHT
BEGIN:STANDARD
TZOFFSETFROM:+0200
TZOFFSETTO:+0100
TZNAME:CET
DTSTART:20281029T010000
END:STANDARD
END:VTIMEZONE
BEGIN:VEVENT
DTSTART;TZID=Europe/Berlin:20260423T170000
DTEND;TZID=Europe/Berlin:20260423T210000
DTSTAMP:20260422T110045
CREATED:20251112T173839Z
LAST-MODIFIED:20260319T122123Z
UID:5039-1776963600-1776978000@landgut-stemmen.de
SUMMARY:Ladies Night
DESCRIPTION:Ladies Night im Schultens im Landgut Stemmen \nZeit für einen Abend unter Freundinnen! Ab vier Damen erwartet euch ein prickelndes Empfangsgetränk und eine köstliche Dessertplatte zum Teilen. Genießt gemeinsam gute Gespräche\, leckeres Essen und entspannte Stunden in gemütlicher Atmosphäre. \nJetzt Tisch reservieren und einen tollen Abend mit deinen Mädels genießen! \n–> Bei der Buchung bitte Bereich Restaurant auswählen und als Anmerkung „Ladies Night“ vermerken.
URL:https://landgut-stemmen.de/event/ladies-night-5/
ATTACH;FMTTYPE=image/jpeg:https://landgut-stemmen.de/wp-content/uploads/2018/09/DSC9346.jpg
END:VEVENT
BEGIN:VEVENT
DTSTART;TZID=Europe/Berlin:20260501T000000
DTEND;TZID=Europe/Berlin:20260621T000000
DTSTAMP:20260422T110045
CREATED:20250922T110144Z
LAST-MODIFIED:20260319T122158Z
UID:4782-1777593600-1782000000@landgut-stemmen.de
SUMMARY:Spargelzeit im Schultens
DESCRIPTION:Spargelzeit im Schultens \nAb 01. Mai servieren wir frischen Spargel vom Hof Brase aus Vahlde – regional\, aromatisch und auf den Punkt zubereitet. \nOb klassisch à la carte\, in geselliger Runde mit „Spargel satt“ oder für den Genuss zu Hause in unseren beliebten Spargelpfannen zum Mitnehmen – bei uns kommt jeder Spargelfan auf seine Kosten! \nReservierungen unter: \n–> Bei der Buchung bitte Bereich Restaurant auswählen: \n \n  \n 
URL:https://landgut-stemmen.de/event/spargelzeit-im-schultens/
LOCATION:Restaurant Schultens\, Große Straße 12\, Stemmen\, 27389
CATEGORIES:Gastronomie
ATTACH;FMTTYPE=image/jpeg:https://landgut-stemmen.de/wp-content/uploads/2025/02/Spargel-danke-an-RitaE@pixabay.jpg
END:VEVENT
BEGIN:VEVENT
DTSTART;TZID=Europe/Berlin:20260510T083000
DTEND;TZID=Europe/Berlin:20260510T140000
DTSTAMP:20260422T110045
CREATED:20260319T085656Z
LAST-MODIFIED:20260319T122542Z
UID:5378-1778401800-1778421600@landgut-stemmen.de
SUMMARY:Muttertags-Brunch
DESCRIPTION:Muttertags Brunch \n08:30 bis 13:00 Uhr \nWir tischen unser großes Frühstücksbuffet  mit kalten und warmen Frühstückszutaten auf\, sowie Säfte\, Tee und frischen Kaffeespezialitäten.\nMit lecker duftender Waffelbäckerei\, bei der Ihr Eure Waffel mit verschiedenen süßen Toppings ganz nach Eurem Geschmack bestücken könnt.\nFür Familien haben wir eine Kinderspiel-Ecke vorbereitet. \nAb 11:30 Uhr  gibt es zusätzlich Spargelsuppe\, Flammkuchen & saisonales Dessert \n\n\nPreis: 29\,90 € p. P. \n 
URL:https://landgut-stemmen.de/event/muttertags-brunch/
ATTACH;FMTTYPE=image/jpeg:https://landgut-stemmen.de/wp-content/uploads/2018/09/K1600__DSC9418.jpg
END:VEVENT
BEGIN:VEVENT
DTSTART;TZID=Europe/Berlin:20260514T113000
DTEND;TZID=Europe/Berlin:20260514T220000
DTSTAMP:20260422T110045
CREATED:20260313T080021Z
LAST-MODIFIED:20260319T122716Z
UID:5264-1778758200-1778796000@landgut-stemmen.de
SUMMARY:Himmelfahrt - Burger-Donnerstag & á la carte
DESCRIPTION:Wenn am 14. Mai wieder die Fahrradgruppen durch die Dörfer ziehen\, Freunde zusammenkommen und der Vatertag gefeiert wird\, ist der perfekte Zwischenstopp klar: bei uns im Restaurant. \nLegt eine entspannte Pause ein\, stoßt gemeinsam an und stärkt euch für die nächste Etappe. \nUnsere Vatertags-Aktion:🍔 Burger-Donnerstag – alle Burger inkl. Beilage nur 18 € \nAußerdem für euch auf der Karte:🌱 Frischer Spargel á la carte🍽️ Unsere regulären Lieblingsgerichte \nKüchenzeiten:🕚 11:30 – 14:00 Uhr🕠 ab 17:30 Uhr \nZwischen den Küchenzeiten:🍺 Getränke auf unserer Terrasse oder im Restaurant. \nOb kurze Einkehr mit dem Rad oder ein gemütlicher Abend mit Freunden – wir freuen uns auf alle Vatertags-Runden. \nTipp: Bucht euch online einen Tisch und sichert Euren Platz 🚴‍♂️🍻\n(Beim Bereich bitte „Restaurant“ wählen)
URL:https://landgut-stemmen.de/event/himmelfahrt/
ATTACH;FMTTYPE=image/png:https://landgut-stemmen.de/wp-content/uploads/2026/01/ChatGPT-Image-13.-Maerz-2026-09_20_01-e1773390072818.png
END:VEVENT
BEGIN:VEVENT
DTSTART;TZID=Europe/Berlin:20260516T200000
DTEND;TZID=Europe/Berlin:20260516T230000
DTSTAMP:20260422T110045
CREATED:20260320T090015Z
LAST-MODIFIED:20260323T074301Z
UID:2810-1778961600-1778972400@landgut-stemmen.de
SUMMARY:Mamagehttanzen Frühlingsspecial
DESCRIPTION:Am 16. Mai ist es endlich so weit: die erste #Mamagehttanzen Veranstaltung findet bei uns in Stemmen statt. \n\n  \nEuch erwarten kostenlose Welcome Shots mit oder ohne Alkohol & kleine Giveaways für eine erfolgreiche und besondere Party! \n\n  \nkeine lange Anreise in die Stadt\,  kostenlose Parkplätze direkt vor der Tür! \nVon 20:00-01:00 Uhr gehört die Tanzfläche ganz den Mamas\, die Lust haben\, mal wieder auszugehen\, zu tanzen und einfach eine gute Zeit zu haben. \n\nDJane Mona Milaj wird Euch und euren Mädels ordentlich einheizen – ob aktuelle Hits\, Klassiker oder Party-Throwbacks bringt Sie ein großes\, tanzbares Repertoire mit. \n  \nSchnappt Eure Freundinnen und gönnt euch eine wohlverdiente Auszeit – wir freuen uns auf einen großartigen Abend mit Euch! \n\nVorverkauf 10€ zzgl Systemgebühr \nAbendkasse 15€\nAb 20 Uhr \nVorverkauf:\nTickets hier
URL:https://landgut-stemmen.de/event/mamagehttanzen/
LOCATION:Landgut Stemmen (Großer Saal)\, Große Straße 12\, Stemmen\, 27389
CATEGORIES:Party
ATTACH;FMTTYPE=image/jpeg:https://landgut-stemmen.de/wp-content/uploads/2023/01/IMG_0551-e1773999980292.jpeg
END:VEVENT
BEGIN:VEVENT
DTSTART;TZID=Europe/Berlin:20260815T120000
DTEND;TZID=Europe/Berlin:20260815T150000
DTSTAMP:20260422T110045
CREATED:20250219T083932Z
LAST-MODIFIED:20260319T123938Z
UID:4253-1786795200-1786806000@landgut-stemmen.de
SUMMARY:Einschulungsbuffet
DESCRIPTION:Ab 12:00 Uhr \nZur Einschulung bereiten wir ein buntes Buffet für Groß und Klein vor. Wir beginnen klassisch mit der Stemmer Hochzeitssuppe. Auf dem Buffet finden Sie außerdem eine bunte Salatauswahl mit zweierlei Dressings und Toppings\, sowie verschiedene Hauptgerichte vom Rind\, Hähnchen\, Fisch\, Nudeln\, sowie ein veganes Gericht. Zum süßen Abschluss können Sie Waffeln an der Waffelstation backen und sich am Eisbuffet bedienen. \nNatürlich darf man auch kommen\, wenn man gerade keine Einschulung geplant hat. 🙂 \nPro Person 32 €\nKinder von 3 bis 11 Jahre 16 €\nKinder bis 2 Jahre 1 € \nBitte bei der Buchung Bereich „Restaurant“ auswählen
URL:https://landgut-stemmen.de/event/einschulungsbuffet/
LOCATION:Restaurant Schultens\, Große Straße 12\, Stemmen\, 27389
CATEGORIES:Gastronomie
ATTACH;FMTTYPE=image/jpeg:https://landgut-stemmen.de/wp-content/uploads/2023/07/DSC1660.jpg
END:VEVENT
BEGIN:VEVENT
DTSTART;TZID=Europe/Berlin:20260904T190000
DTEND;TZID=Europe/Berlin:20260904T190000
DTSTAMP:20260422T110045
CREATED:20260302T141515Z
LAST-MODIFIED:20260407T131016Z
UID:1954-1788548400-1788548400@landgut-stemmen.de
SUMMARY:Dinner Event: Varieté "Dolce Vita"
DESCRIPTION:Dinner Event: Varieté „Dolce Vita“\nFreitag\, 04. September 2026 \n\n\nLassen Sie sich an diesem besonderen Abend von Don Luigi\, einer der ganz großen Cosa Nostra\,\nin die begeisternde Welt des italienischen „Dolce Vita“ entführen! \nNehmen Sie teil am vorweihnachtlichen Familientreffen Don Luigi’s!\nDas Künstlerensemble mit Pantomime Christoph Gilsbach\, Crossover-Tenor & Pianist Christoph Alexander sowie dem Violinisten Janusz Bulka\nwissen mit spontanem Witz\, virtuoser Musik\, stillen Momenten bis hin zu temporeichen Aktionen und mitreißendem Spiel zu begeistern! \n  \n(Menü folgt in Kürze) \n  \n69\,90 Euro pro Person inklusive Aperitif\,\nVier-Gänge-Menü und Künstlerprogramm!\n(Getränke zuzüglich) \nEinlass 18.00 Uhr\, Beginn 19.00 Uhr\nDauer bis ca. 22.30 Uhr \n(Bitte beim Reservieren Bereich „Dinner Event“ und 18:00 Uhr wählen.)
URL:https://landgut-stemmen.de/event/dolce-vita/
LOCATION:Landgut Stemmen (Großer Saal)\, Große Straße 12\, Stemmen\, 27389
CATEGORIES:Stemmer Schlemmer Erlebnis
ATTACH;FMTTYPE=image/jpeg:https://landgut-stemmen.de/wp-content/uploads/2021/08/Pressefoto_DOLCE_VITA_Flagge_Foto_Bjoern_Kaisen_Zoom1.jpg
END:VEVENT
BEGIN:VEVENT
DTSTART;TZID=Europe/Berlin:20261202T180000
DTEND;TZID=Europe/Berlin:20261202T180000
DTSTAMP:20260422T110045
CREATED:20251021T074402Z
LAST-MODIFIED:20260319T124718Z
UID:4960-1796234400-1796234400@landgut-stemmen.de
SUMMARY:Dinner Event: X-Mas-Special
DESCRIPTION:Freuen Sie sich auf einen liebevoll gestalteten Weihnachtsabend\nmit winterlichem 3-Gang-Menü\, Musik\, Humor und ganz viel Herz. Genießen Sie ein unterhaltsames Programm\, das Sie zum Lachen\, Träumen und Mitsummen einlädt. In stimmungsvoller Atmosphäre erleben Sie echte Weihnachtsvorfreude – gemütlich und genussvoll. \nPreis pro Person: 69\,90 € (inkl. Dinner\, Aperitif und Show) \nEinlass 18.00 Uhr\, Beginn 19.00 Uhr\nDauer bis ca. 22.30 Uhr \n(Bitte beim Reservieren Bereich „Dinner Event“ und 18:00 Uhr wählen.) \n \n 
URL:https://landgut-stemmen.de/event/x-mas-special-dinner-2/
LOCATION:Landgut Stemmen (Großer Saal)\, Große Straße 12\, Stemmen\, 27389
ATTACH;FMTTYPE=image/jpeg:https://landgut-stemmen.de/wp-content/uploads/2025/10/Weiss-Neutral-Elegant-Aesthetisch-Zitat-Spruch-Instagram-Post.jpg
END:VEVENT
BEGIN:VEVENT
DTSTART;TZID=Europe/Berlin:20261225T113000
DTEND;TZID=Europe/Berlin:20261225T143000
DTSTAMP:20260422T110045
CREATED:20251223T094105Z
LAST-MODIFIED:20260407T131039Z
UID:5141-1798198200-1798209000@landgut-stemmen.de
SUMMARY:Familien-Weihnachtsbuffet
DESCRIPTION:Einfach gemütlich\, einfach lecker! \n\n\nGenießen Sie mit der ganzen Familie festliche Leckereien vom Buffet. Wir beginnen mit der Hochzeitssuppe und eröffnen danach das große Buffet. Mit Vorspeisen und Salaten\, verschiedenen Fleisch-\, Fisch- und vegetarischen Gerichten\, entsprechenden Beilagen und natürlich Speisen für Kinder. Zum süßen Abschluss eröffnen wir ein separates Eis- und Dessert-Buffet \nInklusive Willkommensdrink und kleinem Geschenk für die Kinder \n\nErwachsene 52 €\n\nKinder\n– bis einschließlich 2 Jahre – 1 €\n  – von 3 bis einschließlich 7 Jahre – 14 €\n  – von 8 bis einschließlich 12 Jahre – 35 € \n\n \nBitte Bereich „Weihnachten“ wählen \nNach der Buchung erhalten eine Reservierungsbestätigung per eMail. Einzelne Plätze zum Weihnachtsbuffet können bis 10 Tage vorher kostenfrei geändert/ storniert werden. Ca. 2-3 Wochen vorher rufen wir Sie nochmal an\, um die Personenzahl abzugleichen. 
URL:https://landgut-stemmen.de/event/familien-weihnachtsbuffet-5/
LOCATION:Landgut Stemmen (Großer Saal)\, Große Straße 12\, Stemmen\, 27389
CATEGORIES:Gastronomie
ATTACH;FMTTYPE=image/jpeg:https://landgut-stemmen.de/wp-content/uploads/2018/09/weihnachten_angeschnitten.jpg
END:VEVENT
BEGIN:VEVENT
DTSTART;TZID=Europe/Berlin:20261226T113000
DTEND;TZID=Europe/Berlin:20261226T143000
DTSTAMP:20260422T110045
CREATED:20251223T094723Z
LAST-MODIFIED:20260407T131044Z
UID:5145-1798284600-1798295400@landgut-stemmen.de
SUMMARY:Familien-Weihnachtsbuffet
DESCRIPTION:Einfach gemütlich\, einfach lecker! \n\n\nGenießen Sie mit der ganzen Familie festliche Leckereien vom Buffet. Wir beginnen mit der Hochzeitssuppe und eröffnen danach das große Buffet. Mit Vorspeisen und Salaten\, verschiedenen Fleisch-\, Fisch- und vegetarischen Gerichten\, entsprechenden Beilagen und natürlich Speisen für Kinder. Zum süßen Abschluss eröffnen wir ein separates Eis- und Dessert-Buffet \nInklusive Willkommensdrink und kleinem Geschenk für die Kinder \n\nErwachsene – 52 €\n\nKinder\n– bis einschließlich 2 Jahre – 1 €\n  – von 3 bis einschließlich 7 Jahre – 14 €\n  – von 8 bis einschließlich 12 Jahre – 35 € \n \nBitte Bereich „Weihnachten“ wählen\nNach der Buchung erhalten eine Reservierungsbestätigung per eMail. Einzelne Plätze zum Weihnachtsbuffet können bis 10 Tage vorher kostenfrei geändert/ storniert werden. Ca. 2-3 Wochen vorher rufen wir Sie nochmal an\, um die Personenzahl abzugleichen.
URL:https://landgut-stemmen.de/event/familien-weihnachtsbuffet-6/
LOCATION:Landgut Stemmen (Großer Saal)\, Große Straße 12\, Stemmen\, 27389
CATEGORIES:Gastronomie
ATTACH;FMTTYPE=image/jpeg:https://landgut-stemmen.de/wp-content/uploads/2018/09/weihnachten_angeschnitten.jpg
END:VEVENT
BEGIN:VEVENT
DTSTART;TZID=Europe/Berlin:20261231T190000
DTEND;TZID=Europe/Berlin:20270101T023000
DTSTAMP:20260422T110045
CREATED:20201023T165257Z
LAST-MODIFIED:20260319T134425Z
UID:1574-1798743600-1798770600@landgut-stemmen.de
SUMMARY:Silvesterball mit DJ Bobby
DESCRIPTION:Festlicher Silvesterball mit DJ Bobby\nAperitif\, Stemmer Hochzeitssuppe am Tisch serviert\, vielfältiges Buffet mit Vorspeisen\, einer großen Auswahl an leckeren Hauptgerichten\, sowie buntem Eis- und Dessert Buffet. Softdrinks\, Bier\, Wein und große Spirituosenauswahl inkludiert\, Tanzmusik durch die Jahrzehnte von DJ-Bobby. Sekt zum Jahreswechsel und Mitternachtssnack\, mit Berlinern & Kaffee \nPro Person 119 € \nEinlass ab 19:00 Uhr\, Pauschalende 02:30 Uhr \nWir freuen uns auf eine tolle Feier mit Ihnen! \nReservierungen hier: \n \nBitte Bereich „Weihnachten/ Silvester“ wählen
URL:https://landgut-stemmen.de/event/silvester-gala-buffet/
LOCATION:Landgut Stemmen (Großer Saal)\, Große Straße 12\, Stemmen\, 27389
CATEGORIES:Party
ATTACH;FMTTYPE=image/jpeg:https://landgut-stemmen.de/wp-content/uploads/2018/09/silvester.jpg
END:VEVENT
BEGIN:VEVENT
DTSTART;TZID=Europe/Berlin:20270115T190000
DTEND;TZID=Europe/Berlin:20270115T223000
DTSTAMP:20260422T110045
CREATED:20260319T125811Z
LAST-MODIFIED:20260319T125811Z
UID:5341-1800039600-1800052200@landgut-stemmen.de
SUMMARY:Dinner Event: Krimi-Quiz-Dinner V - "Liebe\, Lust und Leidenschaft"
DESCRIPTION:Dinner Event: Krimi-Quiz-Dinner  – Tagung der Detektive\nFreitag\, 15. Januar 2027 \n\n\n„Liebe\, Lust und Leidenschaft“ – in der brand- aktuellen Version des beliebten Krimi-QUIZ- Dinners tauchen wir ein in die Welt der ganz großen Gefühle und Intrigen.\nEs öffnen sich tiefe Abgründe aus Mordlust\, Rache und Eifersucht – die unseren Gästen Schauer über den Rücken jagen.\nSelbst ein Massenmörder treibt an diesem Abend noch sein ganz eigenes Unwesen – natürlich aus sicherem Abstand… \nPreis pro Person: 69\,90 € (inkl. Dinner\, Aperitif und Show) \nEinlass 18.00 Uhr\, Beginn 19.00 Uhr\nDauer bis ca. 22.30 Uhr \n(Bitte beim Reservieren Bereich „Dinner Event“ und 18:00 Uhr wählen.) \n \n\n\n 
URL:https://landgut-stemmen.de/event/dinner-event-krimi-quiz-dinner-v-liebe-lust-und-leidenschaft/
LOCATION:Landgut Stemmen (Großer Saal)\, Große Straße 12\, Stemmen\, 27389
CATEGORIES:Stemmer Schlemmer Erlebnis
ATTACH;FMTTYPE=image/jpeg:https://landgut-stemmen.de/wp-content/uploads/2026/01/KQD-Plakat-5-versetzt.jpeg
END:VEVENT
END:VCALENDAR